BEGIN:VCALENDAR
VERSION:2.0
PRODID:-//Free Rohingya Coalition (FRC) - ECPv6.14.2//NONSGML v1.0//EN
CALSCALE:GREGORIAN
METHOD:PUBLISH
X-WR-CALNAME:Free Rohingya Coalition (FRC)
X-ORIGINAL-URL:https://freerohingyacoalition.org/en
X-WR-CALDESC:Events for Free Rohingya Coalition (FRC)
REFRESH-INTERVAL;VALUE=DURATION:PT1H
X-Robots-Tag:noindex
X-PUBLISHED-TTL:PT1H
BEGIN:VTIMEZONE
TZID:Europe/Paris
BEGIN:DAYLIGHT
TZOFFSETFROM:+0100
TZOFFSETTO:+0200
TZNAME:CEST
DTSTART:20200329T010000
END:DAYLIGHT
BEGIN:STANDARD
TZOFFSETFROM:+0200
TZOFFSETTO:+0100
TZNAME:CET
DTSTART:20201025T010000
END:STANDARD
BEGIN:DAYLIGHT
TZOFFSETFROM:+0100
TZOFFSETTO:+0200
TZNAME:CEST
DTSTART:20210328T010000
END:DAYLIGHT
BEGIN:STANDARD
TZOFFSETFROM:+0200
TZOFFSETTO:+0100
TZNAME:CET
DTSTART:20211031T010000
END:STANDARD
END:VTIMEZONE
BEGIN:VTIMEZONE
TZID:UTC
BEGIN:STANDARD
TZOFFSETFROM:+0000
TZOFFSETTO:+0000
TZNAME:UTC
DTSTART:20180101T000000
END:STANDARD
END:VTIMEZONE
BEGIN:VTIMEZONE
TZID:UTC
BEGIN:STANDARD
TZOFFSETFROM:+0000
TZOFFSETTO:+0000
TZNAME:UTC
DTSTART:20200101T000000
END:STANDARD
END:VTIMEZONE
BEGIN:VEVENT
DTSTART;TZID=Europe/Paris:20210825T120000
DTEND;TZID=Europe/Paris:20210825T133000
DTSTAMP:20260422T214027
CREATED:20210822T003339Z
LAST-MODIFIED:20210822T140657Z
UID:2526-1629892800-1629898200@freerohingyacoalition.org
SUMMARY:Myanmar Genocide Memorial Event
DESCRIPTION:
URL:https://freerohingyacoalition.org/en/events/myanmar-genocide-memorial-event/
END:VEVENT
BEGIN:VEVENT
DTSTART;TZID=UTC:20201215T140000
DTEND;TZID=UTC:20201215T160000
DTSTAMP:20260422T214027
CREATED:20201213T203052Z
LAST-MODIFIED:20201213T203558Z
UID:2448-1608040800-1608048000@freerohingyacoalition.org
SUMMARY:What can Rohingya Survivors expect from ICJ and ICC?
DESCRIPTION:
URL:https://freerohingyacoalition.org/en/events/what-can-rohingya-survivors-expect-from-icj-and-icc/
LOCATION:Facebook
ATTACH;FMTTYPE=image/jpeg:https://freerohingyacoalition.org/en/wp-content/uploads/2020/12/forsea-FRC-Legal-Roundtable--scaled.jpg
END:VEVENT
BEGIN:VEVENT
DTSTART;TZID=Europe/Paris:20200825T140000
DTEND;TZID=Europe/Paris:20200825T190000
DTSTAMP:20260422T214027
CREATED:20200823T113255Z
LAST-MODIFIED:20200823T113909Z
UID:2288-1598364000-1598382000@freerohingyacoalition.org
SUMMARY:Free Rohingya Coalition (FRC) Global Rally to Commemorate Myanmar Genocide of 2017
DESCRIPTION:Register here: https://bit.ly/FRCRally
URL:https://freerohingyacoalition.org/en/events/free-rohingya-coalition-frc-global-rally-to-commemorate-myanmar-genocide-of-2017/
END:VEVENT
BEGIN:VEVENT
DTSTART;TZID=Europe/Paris:20200716T120000
DTEND;TZID=Europe/Paris:20200716T133000
DTSTAMP:20260422T214027
CREATED:20200713T160612Z
LAST-MODIFIED:20200713T161102Z
UID:2160-1594900800-1594906200@freerohingyacoalition.org
SUMMARY:What Future for Rakhine?: End Games for the Arakanese (Rakhine\, Rohingyas and Other Co-habitants)
DESCRIPTION:What Future for Rakhine?: End Games for the Arakanese (Rakhine\, Rohingyas and Other Co-habitants)\n\n16 July 2020 (Thursday\, 12 noon – 1:30 pm\, UK)\n\nSpecial On-line Seminar\n\nChaired by Professor Michael W. Charney\n\nCo-organized by SOAS School of Interdisciplinary Studies\, Forces of Renewal Southeast Asia (FORSEA.co) & Free Rohingya Coalition
URL:https://freerohingyacoalition.org/en/events/what-future-for-rakhine-end-games-for-the-arakanese-rakhine-rohingyas-and-other-co-habitants/
END:VEVENT
BEGIN:VEVENT
DTSTART;TZID=UTC:20200709T160000
DTEND;TZID=UTC:20200709T173000
DTSTAMP:20260422T214027
CREATED:20200702T162803Z
LAST-MODIFIED:20200702T163516Z
UID:2116-1594310400-1594315800@freerohingyacoalition.org
SUMMARY:Huger\, Exploitation\, Hate Crime and Xenophobia: Rohingyas on land and at sea
DESCRIPTION:Hunger\, Exploitation\, Hate Crime and Xenophobia\nRohingyas on land and at sea\n\nJuly 9\, 2020 4PM (Bangladesh Time)\n\nWatch live: https://fb.me/RMMRU\n\n\n 
URL:https://freerohingyacoalition.org/en/events/huger-exploitation-hate-crime-and-xenophobia-rohingyas-on-land-and-at-sea/
END:VEVENT
BEGIN:VEVENT
DTSTART;TZID=UTC:20190320T150000
DTEND;TZID=UTC:20190320T170000
DTSTAMP:20260422T214027
CREATED:20190320T104958Z
LAST-MODIFIED:20190320T110233Z
UID:1484-1553094000-1553101200@freerohingyacoalition.org
SUMMARY:EU Inaction in the Face of Myanmar's ongoing Genocide
DESCRIPTION:Watch Live here – March 20\, 2019 at 3 p.m Brussels Time. \n\nhttps://www.facebook.com/FreeRohingyaCoalition 
URL:https://freerohingyacoalition.org/en/events/eu-inaction-in-the-face-of-myanmars-ongoing-genocide/
LOCATION:European Parliament\, Brussels\, Belgium\, Brussels\, Belgium
ATTACH;FMTTYPE=image/jpeg:https://freerohingyacoalition.org/en/wp-content/uploads/2019/03/D2F9GQ-WsAAuc1N.jpg
END:VEVENT
BEGIN:VEVENT
DTSTART;VALUE=DATE:20190208
DTEND;VALUE=DATE:20190210
DTSTAMP:20260422T214027
CREATED:20181208T170659Z
LAST-MODIFIED:20190128T223400Z
UID:1241-1549584000-1549756799@freerohingyacoalition.org
SUMMARY:The International Conference on Protection and Accountability in Burma\, 8-9 Feb. 2019
DESCRIPTION:The Institute for the Study of Human Rights\, Global Cultural Studies\, South Asia Institute (Columbia University)\, The Consortium for Critical Interdisciplinary Studies (Barnard College)\, in collaboration with the Free Rohingya Coalition\, present\n\nThe International Conference on Protection and Accountability in Burma\, 8-9 Feb. 2019\n\n[scribd id=398429222 key=key-jFlxN1sCBMr0sZxVMyJp mode=scroll]
URL:https://freerohingyacoalition.org/en/events/the-international-conference-on-protection-and-accountability-in-burma-8-9-feb-2019/
LOCATION:The Institute for the Study of Human Rights\, Global Cultural Studies\, South Asia Institute\, Columbia University
ATTACH;FMTTYPE=image/png:https://freerohingyacoalition.org/en/wp-content/uploads/2019/01/Screenshot-2019-01-26-at-23.24.55.png
END:VEVENT
BEGIN:VEVENT
DTSTART;TZID=UTC:20181210T090000
DTEND;TZID=UTC:20181210T140000
DTSTAMP:20260422T214027
CREATED:20181206T152939Z
LAST-MODIFIED:20181206T153847Z
UID:1229-1544432400-1544450400@freerohingyacoalition.org
SUMMARY:The genocide of the Rohingya people International law and international criminal jurisdiction
DESCRIPTION:The genocide of the Rohingya people International law and international criminal jurisdiction\, Rome\, 10 December 2018 \n[scribd id=395078876 key=key-vOsZbyPvbfWwHP6nJhjq mode=scroll]
URL:https://freerohingyacoalition.org/en/events/the-genocide-of-the-rohingya-people-international-law-and-international-criminal-jurisdiction/
LOCATION:Permanent Peoples’ Tribunal\, Lelio and Lisli Basso Foundation\, Rome\, Italy
ATTACH;FMTTYPE=image/png:https://freerohingyacoalition.org/en/wp-content/uploads/2018/12/Screenshot-2018-12-06-at-17.29.53.png
END:VEVENT
BEGIN:VEVENT
DTSTART;TZID=UTC:20180601T083000
DTEND;TZID=UTC:20180601T191500
DTSTAMP:20260422T214027
CREATED:20180515T130846Z
LAST-MODIFIED:20180524T160748Z
UID:265-1527841800-1527880500@freerohingyacoalition.org
SUMMARY:An International Conference  on the Situations of Rohingya People  in Myanmar and Bangladesh
DESCRIPTION:
URL:https://freerohingyacoalition.org/en/events/conference-on-situations-of-rohingyas-in-bangladesh-myanmar/
LOCATION:Assemblée Nationale\, Paris\, 75007\, France
ORGANIZER;CN="France-Bangladesh Friendship Group%2C Assembl%C3%A9e Nationale":MAILTO:parisrohingyaconference@gmail.com
END:VEVENT
END:VCALENDAR